BEGIN:VCALENDAR
PRODID:-//kirchenweb.ch gmbh//veranstaltungsausgabe v2.0//DE
VERSION:2.0
METHOD:PUBLISH
BEGIN:VEVENT
DTSTART:20261028T080000Z
DTEND:20261028T090000Z
LOCATION:Heilig-Geist-Kirche\, Langfurrenstrasse 10\, 8623 Wetzikon
TRANSP:OPAQUE
SEQUENCE:0
UID:22504-veranstaltung@kath-wetzikon.ch
DTSTAMP:20260413T180732Z
DESCRIPTION:Kaum erwähnt und doch verehrt\n\nHeute gedenkt die Kirche dem
  Heiligen Judas Thaddäus und dem Heiligen Simon Zelotes. Sie gehören zu
  den zwölf Aposteln\, aber die Bibel erzählt nicht viel über sie. Dabei
  hat deren Geschichte grosse literarische Qualität.\n\nSimon mit dem
  Beinamen "der Zelot" wird in drei Evangelien sowie in der
  Apostelgeschichte erwähnt (Mt 10\,4\, Mk 3\,18\, Lk 6\,15\, Apg 1\,13)
  erwähnt. Simon war Angehöriger einer radikalen Widerstandsbewegung\,
  bevor er sich Jesus und der Nächstenliebe zuwandte. Die kämpferische
  Gruppe nannte sich Zeloten und sie hatte sich zum Ziel gesetzt\, in einem
  Guerillakrieg die römische Besatzungsmacht aus Israel zu vertreiben.
  Deswegen wird der Apostel auch Simon der Zelot genannt.\n\nEine
  Überlieferung besagt\, dass Simon nach der Auferstehung das Evangelium
  in Babylonien und Persien verkündete – im heutigen Irak und im Iran.
  In dieser Gegend soll er zusammen mit Judas Thaddäus einen
  Kriegsherren\, seinen Hofstaat und viele Tausend Weitere getauft haben.
  Als Alternative zum Krieg warben sie für Frieden\, Gewaltfreiheit und
  für die Schöpfung. Ihre Methoden missfiel allerdings einigen\,
  woraufhin sie mit dem Märtyrertod bestraft wurden. Ein gewaltiges
  Unwetter soll daraufhin die verantwortlichen Mörder erschlagen haben.
 \nDie Säge ist sein Attribut\n\nUm Heiligenfiguren aus dieser Zeit ranken
  sich in der Regel mehrere Legenden\, Überlieferungen und Erzählungen.
  Einer zufolge\, wurde Simon mit einer Säge zerstückelt oder
  enthauptet\, weshalb eines seiner Attribute auch eine Säge ist. Manchmal
  wird er aber auch mit einer Keule\, einem Anker\, oder einem Beil
  abgebildet – als Zeichen seiner Funktion als Waldarbeiterpatron. In der
  Bibel findet er\, neben den Apostelaufzählungen\, keine gesonderte
  Erwähnung.\n\nNicht mit dem Verräter verwechseln\n\nEbenso wurden dem
  Heiligen Judas Thaddäus in der Bibel nur wenige Stellen gewidmet. Nur
  einmal tritt er als selbsthandelnde Person auf (Johannesevangelium 14\,
  22). Da fragt er Jesus wieso er sich nur seinen Jüngern offenbaren
  möchte und nicht der ganzen Welt? Man darf ihn also nicht Judas
  Ischariot verwechseln; dem Verräter\, der Jesus den Römern auslieferte
  und der sich nach seinem Verrat umbrachte.\n\nMit Reliquie auf der Brust
  beerdigt\n\nJudas Thaddäus gilt als Heiliger\, der in schweren Nöten
  und in verzweifelten Situationen angerufen wird. Eine Legende erzählt\,
  wie der König von Edessa von der Lepra geheilt wurde\, nachdem er Jesus
  um Beistand angerufen hatte. Judas Thaddäus reiste zum König und nahm
  seinen Dank für die Heilung an und wurde gleich zum ersten Bischof von
  Edessa. Der Ort liegt in der heutigen Türkei und ist die Millionenstadt
  Sanliurfa.\n\nJudas Thaddäus wird an verschiedenen Orten der Welt
  verehrt. Der Heilige Bernhard von Clairvaux (geb. ca. 1090 gest. 1153)
  soll eine Reliquie von ihm mit sich geführt haben. Mit ihr auf seiner
  Brust soll er beerdigt worden sein. Heutzutage wird er etwa in Mexiko
  aufgrund der Kriminalität und der schwierigen wirtschaftlichen Lage
  besonders verehrt. Auch im Bistum Köln gibt es ihm zu Ehren
  Gedenkstätten. In Hennef gibt es eine St. Simon und Judas Pfarrkirche\,
  ebenso in der Gemeinde Wachtenberg und in Bergheim.\n\nFinette war die
  erste\n\nIn Königswinter gibt es sogar einen Wallfahrtsort mit einer
  Reliquie von ihm. Von dort ist die Geschichte der ersten Pilgerin
  überliefert. Sie hieß Finette und pilgerte im Jahr 1921 aus Bad
  Godesberg zum Bild des heiligen Judas Thaddäus aus Dank für die
  Genesung von einer doppelten Lungenentzündung.\n\nKontakt:
  redaktion.webseite@kath-wetzikon.ch\n\nWeitere Infos:
  https://www.kath-wetzikon.ch/veranstaltung/22504
SUMMARY:HG Heilige Messe zum Fest der Hl. Apostel Simon und Judas
PRIORITY:5
X-MICROSOFT-CDO-IMPORTANCE:1
CLASS:PUBLIC
END:VEVENT
END:VCALENDAR
