BEGIN:VCALENDAR
PRODID:-//kirchenweb.ch gmbh//veranstaltungsausgabe v2.0//DE
VERSION:2.0
METHOD:PUBLISH
BEGIN:VEVENT
DTSTART:20261104T080000Z
DTEND:20261104T090000Z
LOCATION:Heilig-Geist-Kirche\, Langfurrenstrasse 10\, 8623 Wetzikon
TRANSP:OPAQUE
SEQUENCE:0
UID:22505-veranstaltung@kath-wetzikon.ch
DTSTAMP:20260413T181738Z
DESCRIPTION:Carlo Borromeo (1538–1584)\, Erzbischof von Mailand und
  Kardinal\, war eine der prägendsten Gestalten der katholischen Reform
  nach dem Konzil von Trient. Sein Wirken lässt sich nur im Licht seines
  tiefen Glaubens und seiner asketischen Hingabe verstehen.\n\nBorromeo
  verkörperte\, was wahre Reform im katholischen Sinn bedeutet: nicht
  Revolution von aussen\, sondern Erneuerung von innen her – aus der
  Umkehr des Herzens. Er reformierte nicht gegen Rom\, sondern ‚mit
  Rom‘\, indem er die Beschlüsse des Konzils von Trient in seiner
  Diözese konsequent umsetzte. So wurde Mailand zu einem Muster einer
  erneuerten\, disziplinierten und seelsorglich wachen Kirche.\n\nEr
  besuchte unermüdlich seine Pfarreien\, führte Visitationsreisen durch\,
  reformierte die Priesterausbildung durch die Gründung von Seminaren und
  achtete auf eine würdige Feier der Liturgie. Seine Nähe zum Volk war
  geprägt von echter Liebe zu Christus und zu den Seelen. Besonders in der
  Pestzeit 1576 blieb er in der Stadt\, um die Kranken zu pflegen und die
  Sakramente zu spenden. Ein Bild des guten Hirten\, der sein Leben für
  die Schafe gibt (Joh 10\,11).\n\nBorromeo war kein blosser
  Administrator\, sondern ein geistlicher Lehrer. Sein Ideal war das eines
  Priesters\, der durch Gebet\, Opfer und Demut Christus ähnlich wird.
  Sein eigenes Leben war gezeichnet von Fasten\, Busse und schlichtem
  Lebensstil – ein Gegenbild zum Luxus mancher Kleriker seiner Zeit.
  Darin wurde er ein lebendiges Zeugnis für die tridentinische Erneuerung.
 \n\nCarlo Borromeo erinnert daran\, dass wahre Reform nicht zuerst
  Strukturen betrifft\, sondern Heiligkeit. Er steht für den Mut\, das
  Evangelium radikal ernst zu nehmen und in der Kirche Ordnung zu
  schaffen\, die der Gnade Raum gibt. In einer Zeit des Umbruchs wurde er
  zu einem Mann des Glaubens\, der zeigte\, dass die Kirche durch Heilige
  erneuert wird – nicht durch Programme.\n\nDer heilige Karl Borromäus
  ist der zweite Patron des Bistums Chur. Er setzte die Beschlüsse des
  Konzils von Trient im Gebiet des Bistums Chur tatkräftig um.\n\nQuelle:
  ChatGPT\n\nKontakt: redaktion.webseite@kath-wetzikon.ch\n\nWeitere Infos:
  https://www.kath-wetzikon.ch/veranstaltung/22505
SUMMARY:HG Heilige Messe zum Gedenktag des Hl. Karl Borromäus
PRIORITY:5
X-MICROSOFT-CDO-IMPORTANCE:1
CLASS:PUBLIC
END:VEVENT
END:VCALENDAR
