BEGIN:VCALENDAR
PRODID:-//kirchenweb.ch gmbh//veranstaltungsausgabe v2.0//DE
VERSION:2.0
METHOD:PUBLISH
BEGIN:VEVENT
DTSTART:20260501T170000Z
DTEND:20260501T180000Z
LOCATION:Heilig Geist Kirche\, Langfurrenstrasse 10\, 8623 Wetzikon
TRANSP:OPAQUE
SEQUENCE:0
UID:22737-veranstaltung@kath-wetzikon.ch
DTSTAMP:20260309T162010Z
DESCRIPTION:Von Pabst Pius XII. wurde 1955 für den 1. Mai das Fest des
  hl. Josef\, des Arbeiters\, eingeführt. Es handelt sich dabei um ein
  Gedenken\, das den Nährvater Jesu mit dem Tag der Arbeit\, als der der
  1. Mai schon vorher im außerkirchlichen Raum gehalten wurde\, in
  Verbindung bringt.\n(Quelle: Schott)\n\nKontakt:
  redaktion.webseite@kath-wetzikon.ch\n\nWeitere Infos:
  https://www.kath-wetzikon.ch/veranstaltung/22737
SUMMARY:HG Heilige Messe zum Gedenktag des Hl. Josef des Arbeiters
PRIORITY:5
X-MICROSOFT-CDO-IMPORTANCE:1
CLASS:PUBLIC
END:VEVENT
END:VCALENDAR
