BEGIN:VCALENDAR
PRODID:-//kirchenweb.ch gmbh//veranstaltungsausgabe v2.0//DE
VERSION:2.0
METHOD:PUBLISH
BEGIN:VEVENT
DTSTART:20260411T154500Z
DTEND:20260411T164500Z
LOCATION:Heilig Geist Kirche\, Langfurrenstrasse 10\, 8623 Wetzikon
TRANSP:OPAQUE
SEQUENCE:0
UID:22838-veranstaltung@kath-wetzikon.ch
DTSTAMP:20260403T115628Z
DESCRIPTION:Sonntag der Göttlichen Barmherzigkeit\nDer 2. Sonntag der
  Osterzeit heisst seit dem Jahr 2000 auch Barmherzigkeitssonntag. Dieses
  Fest hat Papst Johannes Paul II. eingeführt.\n\nAm
  Barmherzigkeitssonntag blickt die römisch-katholische Kirche auf den
  auferstandenen Jesus Christus\, der in seinem Tod und seiner Auferstehung
  Sünde und Tod besiegt hat. Seine Wundmale sind das bleibende Zeichen
  seiner Liebe\, die er uns in seiner Barmherzigkeit geschenkt hat. Im
  gekreuzigten und auferstanden Herrn scheint uns daher die Barmherzigkeit
  Gottes auf.\n\nPapst Johannes Paul II. und Schwester Faustyna Kowalska
 \nKarol Józef Wojtyła lautete der bürgerliche Name von Johannes Paul
  II. Der junge Karol studierte während der deutschen Besetzung Polens im
  geheimen Priesterseminar von Krakau Theologie und musste gleichzeitig
  Zwangsarbeit leisten. In dieser Zeit suchte er häufig ein nahegelegenes
  Kloster auf und kniete dort am Grab von Sr. Faustyna nieder.\n\nWährend
  der 13 Jahre ihres Ordenslebens hatte Sr. Faustyna keine leitende
  Aufgabe\, sondern arbeitete als Köchin\, Gärtnerin und Pförtnerin.
  Nach aussen hin war dieses Leben scheinbar eintönig und grau. Im Inneren
  aber war es erfüllt von einer ungewöhnlich tiefen Vereinigung mit Gott.
  In mystischen Einsprechungen empfing sie Worte Jesu.\n\n\nKontakt:
  redaktion.webseite@kath-wetzikon.ch\n\nWeitere Infos:
  https://www.kath-wetzikon.ch/veranstaltung/22838
SUMMARY:HG Heilige Messe zum Sonntag der Göttlichen Barmherzigkeit
PRIORITY:5
X-MICROSOFT-CDO-IMPORTANCE:1
CLASS:PUBLIC
END:VEVENT
END:VCALENDAR
