BEGIN:VCALENDAR
PRODID:-//kirchenweb.ch gmbh//veranstaltungsausgabe v2.0//DE
VERSION:2.0
METHOD:PUBLISH
BEGIN:VEVENT
DTSTART:20261024T154500Z
DTEND:20261024T164500Z
LOCATION:Heilig Geist Kirche\, Langfurrenstrasse 10\, 8623 Wetzikon
TRANSP:OPAQUE
SEQUENCE:0
UID:22866-veranstaltung@kath-wetzikon.ch
DTSTAMP:20260413T180527Z
DESCRIPTION:Wir feiern in unserer Pfarrei die Heilige Messe zum Tag der
  Völker – ein Fest der kulturellen Vielfalt\, der Gemeinschaft und des
  Glaubens.\n\nDie Messe wird musikalisch mitgestaltet von Gildas und
  seiner afrikanischen Musikgruppe\, die mit lebendigen Rhythmen und
  berührenden Klängen eine besondere Atmosphäre schafft.\n\nIm Anschluss
  laden wir herzlich ein zum Nationen-Apéro Riche: Ein kulinarisches
  Zusammensein mit Köstlichkeiten aus verschiedenen Ländern; mitgebracht
  von Menschen aus unserer vielfältigen Pfarreigemeinschaft.\n\nKommt
  vorbei\, feiert mit uns und erlebt die bunte Vielfalt unseres Glaubens!\n
 \nKontakt: redaktion.webseite@kath-wetzikon.ch\n\nWeitere Infos:
  https://www.kath-wetzikon.ch/veranstaltung/22866
SUMMARY:HG Heilige Messe zum Tag der Völker\, mit Gildas und seiner
  afrikanischen Musikgruppe\, anschl. Nationen Apéro Riche
PRIORITY:5
X-MICROSOFT-CDO-IMPORTANCE:1
CLASS:PUBLIC
END:VEVENT
END:VCALENDAR
