BEGIN:VCALENDAR
PRODID:-//kirchenweb.ch gmbh//veranstaltungsausgabe v2.0//DE
VERSION:2.0
METHOD:PUBLISH
BEGIN:VEVENT
DTSTART:20261121T164500Z
DTEND:20261121T174500Z
LOCATION:Heilig Geist Kirche\, Langfurrenstrasse 10\, 8623 Wetzikon
TRANSP:OPAQUE
SEQUENCE:0
UID:22870-veranstaltung@kath-wetzikon.ch
DTSTAMP:20260413T182531Z
DESCRIPTION:Heilige Messe zu Ehren der Heiligen Cäcilia\n\nAn diesem
  Samstag feiern wir in der Heilig-Geist-Kirche die Heilige Messe zu Ehren
  der Heiligen Cäcilia\, der Schutzpatronin der Kirchenmusik und der
  Sängerinnen und Sänger.\n\nDie Hl. Cäcilia war eine römische
  Märtyrerin\, deren Glaube und Liebe zu Gott bis heute inspirieren. Sie
  erinnert uns daran\, dass Musik ein Ausdruck des Gebets und der Freude am
  Glauben ist.\n\nUnser Cäcilienchor gestaltet diese Hl. Messe musikalisch
  mit und trägt so dazu bei\, dass Lob und Dank an Gott in besonderer
  Weise erklingen.\n\nWir laden alle herzlich ein\, mitzufeiern und
  gemeinsam für das Geschenk der Musik zu danken\, die unsere
  Gottesdienste bereichert und unsere Herzen verbindet.\n\n„Wer singt\,
  betet doppelt.“\nHl. Augustinus\n\nKontakt:
  redaktion.webseite@kath-wetzikon.ch\n\nWeitere Infos:
  https://www.kath-wetzikon.ch/veranstaltung/22870
SUMMARY:HG Heilige Messe mit Cäcilienchor (Hl. Cäcilia)
PRIORITY:5
X-MICROSOFT-CDO-IMPORTANCE:1
CLASS:PUBLIC
END:VEVENT
END:VCALENDAR
