BEGIN:VCALENDAR
PRODID:-//kirchenweb.ch gmbh//veranstaltungsausgabe v2.0//DE
VERSION:2.0
METHOD:PUBLISH
BEGIN:VEVENT
DTSTART:20260510T070000Z
DTEND:20260510T080000Z
LOCATION:St. Franziskus-Kirche\, Mes\, 8620 Wetzikon
TRANSP:OPAQUE
SEQUENCE:0
UID:22895-veranstaltung@kath-wetzikon.ch
DTSTAMP:20260416T112854Z
DESCRIPTION:Kontakt: redaktion.webseite@kath-wetzikon.ch\n\nWeitere Infos:
  https://www.kath-wetzikon.ch/veranstaltung/22895
SUMMARY:Abgesagt: SF Liturgia della Parola MCLI
PRIORITY:5
X-MICROSOFT-CDO-IMPORTANCE:1
CLASS:PUBLIC
END:VEVENT
END:VCALENDAR
