BEGIN:VCALENDAR
PRODID:-//kirchenweb.ch gmbh//veranstaltungsausgabe v2.0//DE
VERSION:2.0
METHOD:PUBLISH
BEGIN:VEVENT
DTSTART:20260524T080000Z
DTEND:20260524T090000Z
LOCATION:Heilig-Geist-Kirche\, Langfurrenstrasse 10\, 8623 Wetzikon
TRANSP:OPAQUE
SEQUENCE:0
UID:22947-veranstaltung@kath-wetzikon.ch
DTSTAMP:20260408T131722Z
DESCRIPTION:Pfingsten – Gott in uns\nPfingsten wird genau 50 Tage nach
  Ostern gefeiert wird. Der Pfingstsonntag bildet damit den 50. Tag der
  Osterzeit. Es steht für den Tag\, an dem der Heilige Geist auf die
  Apostel herabkam und ihnen die Kraft und die Fähigkeit gab\, die
  Botschaft Jesu Christi in die Welt zu tragen. Deshalb gilt Pfingsten auch
  als „Geburtstag der Kirche“.\n\nPfingsten ist ein wichtiger Feiertag
  für uns Christen und stellt die grosse Bedeutung des Heiligen Geistes in
  unserem christlichen Glauben heraus.\n\nWas ist an Pfingsten laut Bibel
  passiert?\nIn der Apostelgeschichte heisst es\, dass Jesu Jünger am
  Pfingsttag in Jerusalem in einem Haus versammelt waren. Nachdem Jesus
  gestorben und wieder auferstanden war\, wussten sie nicht mehr weiter\,
  was sie jetzt ohne ihn tun sollten.\n\nPlötzlich hörten die Jünger ein
  starkes Rauschen\, wie ein heftiger Sturm\, und sahen Feuerzungen\, die
  sich auf jedem von ihnen niederliessen. Sie wurden vom Heiligen Geist
  erfüllt. Von diesem Moment an besaßen sie die Fähigkeit\, in allen
  Sprachen der Welt zu sprechen.\n\nDer Heilige Geist schenkt uns
  göttliches Leben\nPfingsten ist das leise\, aber entscheidende Wunder
  unseres Glaubens: Gott bleibt nicht fern\, er kommt uns nicht nur
  entgegen\, er nimmt Wohnung in uns. Der Heilige Geist wird uns
  geschenkt\, die lebendige Gegenwart Gottes im Herzen des Menschen.\n
 \nDamit verändert sich alles. Der Glaube beschränkt sich nicht auf ein
  äusseres Tun\, kein blosses Befolgen von Geboten. Er wird zu einem
  inneren Leben. Gott selbst wirkt in uns\, formt unser Denken\, stärkt
  unseren Willen und entzündet die Liebe.\n\nDie Jünger waren zuvor
  ängstlich und verschlossen. Erst durch den Geist wurden sie frei\, mutig
  und sendungsbereit. So ist es auch heute: Kirche lebt nicht aus eigener
  Kraft\, sondern aus dem Geist Gottes. Wo der Geist wirkt\, da wächst
  Einheit\, Wahrheit und Freude.\n\nPfingsten lädt uns ein\, neu zu
  vertrauen: Wir müssen den Glauben nicht allein tragen. Gott selbst
  trägt ihn in uns.\n\nDarum ist die eigentliche Frage von Pfingsten:
  Geben wir dem Geist Raum in unserem Leben?\nMögen wir offen werden für
  sein Wirken\, im Gebet\, im Hören auf Gottes Wort und im konkreten
  Handeln der Liebe. Dann wird Pfingsten nicht nur ein Fest im Kalender
  bleiben\, sondern eine Wirklichkeit in unserem Leben.\n\n\nDer
  Cäcilienchor begleitet die Liturgie mit Stücken folgender Komponisten:
 \nF. Schubert (Messe in G)\nG. F. Händel (Halleluja)\nF. X. Berxi (Veni
  Creator Spiritus)\n\nAnschliessend sind alle herzlich zum Apéro riche
  eingeladen.\n\nKontakt: redaktion.webseite@kath-wetzikon.ch\n\nWeitere
  Infos: https://www.kath-wetzikon.ch/veranstaltung/22947
SUMMARY:HG Heilige Messe am Hochfest Pfingsten mit Cäcilienchor und MCLI
  anschl. Apéro riche
PRIORITY:5
X-MICROSOFT-CDO-IMPORTANCE:1
CLASS:PUBLIC
END:VEVENT
END:VCALENDAR
