BEGIN:VCALENDAR
PRODID:-//kirchenweb.ch gmbh//veranstaltungsausgabe v2.0//DE
VERSION:2.0
METHOD:PUBLISH
BEGIN:VEVENT
DTSTART:20261025T083000Z
DTEND:20261025T093000Z
LOCATION:Heilig Geist Kirche\, Langfurrenstrasse 10\, 8623 Wetzikon
TRANSP:OPAQUE
SEQUENCE:0
UID:22960-veranstaltung@kath-wetzikon.ch
DTSTAMP:20251105T150326Z
DESCRIPTION:Kontakt: redaktion.webseite@kath-wetzikon.ch\n\nWeitere Infos:
  https://www.kath-wetzikon.ch/veranstaltung/22960
SUMMARY:HG Heilige Messe\, 1. EKO-Vorb.-GD\, KIBIZ\, Chinderhüeti\,
  Chilekafi
PRIORITY:5
X-MICROSOFT-CDO-IMPORTANCE:1
CLASS:PUBLIC
END:VEVENT
END:VCALENDAR
