BEGIN:VCALENDAR
PRODID:-//kirchenweb.ch gmbh//veranstaltungsausgabe v2.0//DE
VERSION:2.0
METHOD:PUBLISH
BEGIN:VEVENT
DTSTART:20260412T090000Z
DTEND:20260412T100000Z
LOCATION:St. Franziskus Kirche\, Messikommerstrasse 14\, 8620 Wetzikon
TRANSP:OPAQUE
SEQUENCE:0
UID:22979-veranstaltung@kath-wetzikon.ch
DTSTAMP:20260309T161801Z
DESCRIPTION:Der Weisse Sonntag ist der Sonntag nach Ostern und damit der
  achte Tag der Osterfeier – der sogenannte Oktavtag von Ostern. Seinen
  Namen verdankt er der Tradition der weissen Taufkleider\, die die in der
  Osternacht getauften Christinnen und Christen in der frühen Kirche eine
  Woche lang trugen. Am Weissen Sonntag legten sie diese festlich ab –
  ein Zeichen für das neue Leben in Christus.\n\nSeit dem Heiligen Jahr
  2000 trägt der Weisse Sonntag zusätzlich den Namen „Sonntag der
  göttlichen Barmherzigkeit“\, eingeführt von Papst Johannes Paul II.
  auf Wunsch der hl. Schwester Faustyna Kowalska.\n\nDie Kirche gewährt an
  diesem Tag unter den üblichen Bedingungen einen vollkommenen Ablass –
  für alle\, die in geistlicher Haltung der Barmherzigkeit an der Feier
  teilnehmen. Auch Werke der Barmherzigkeit oder das Beten des
  Barmherzigkeitsrosenkranzes gelten als Ausdruck dieser inneren Haltung.\n
 \nFür viele Kinder unserer Pfarrei steht an diesem Sonntag ein besonderer
  Moment bevor: die Feier der Erstkommunion. Nach einer Zeit der
  Vorbereitung dürfen sie zum ersten Mal die Heilige Kommunion empfangen.
 \n\nDieser Tag ist ein wichtiger Schritt auf ihrem Glaubensweg. Gemeinsam
  mit ihren Familien und der Pfarrgemeinde feiern sie die Nähe Jesu\, der
  uns im Sakrament der Eucharistie begegnet.\n\nWir freuen uns darauf\,
  diesen festlichen Gottesdienst gemeinsam zu feiern und wünschen den
  Erstkommunionkindern Gottes Segen für ihren weiteren Lebensweg.\n\n\n
 \nKontakt: redaktion.webseite@kath-wetzikon.ch\n\nWeitere Infos:
  https://www.kath-wetzikon.ch/veranstaltung/22979
SUMMARY:SF Heilige Messe am Weissen Sonntag mit Erstkommunion\,
  Chinderhüeti (plus livestream)
PRIORITY:5
X-MICROSOFT-CDO-IMPORTANCE:1
CLASS:PUBLIC
END:VEVENT
END:VCALENDAR
