BEGIN:VCALENDAR
PRODID:-//kirchenweb.ch gmbh//veranstaltungsausgabe v2.0//DE
VERSION:2.0
METHOD:PUBLISH
BEGIN:VEVENT
DTSTART:20260510T090000Z
DTEND:20260510T100000Z
LOCATION:St. Franziskus Kirche\, Messikommerstrasse 14\, 8620 Wetzikon
TRANSP:OPAQUE
SEQUENCE:0
UID:22983-veranstaltung@kath-wetzikon.ch
DTSTAMP:20260309T204718Z
DESCRIPTION:Vikar Matteo Tuena wurde am 24. Mai 2025 von Bischof Joseph
  Maria Bonnemain in Chur zum Priester geweiht. Er ist in unserem Dekanat
  in Küsnacht ZH als Vikar tätig. Wir freuen uns sehr\, dass er in
  Wetzikon eine Nachprimiz feiern wird.\n\nEine Nachprimiz ist eine
  feierliche erste Heilige Messe\, die ein neugeweihter Priester nach
  seiner Hauptprimiz (Heimatprimiz) an einem anderen Ort feiert\, etwa in
  einer früheren Wirkungsstätte oder Nachbargemeinde. Sie dient dazu\,
  den besonderen Primizsegen auch Gläubigen ausserhalb der Heimatpfarrei
  zu spenden.\n\nKontakt: redaktion.webseite@kath-wetzikon.ch\n\nWeitere
  Infos: https://www.kath-wetzikon.ch/veranstaltung/22983
SUMMARY:SF Heilige Messe\, Nachprimiz von Vikar Matteo Tuena (plus
  livestream)
PRIORITY:5
X-MICROSOFT-CDO-IMPORTANCE:1
CLASS:PUBLIC
END:VEVENT
END:VCALENDAR
