BEGIN:VCALENDAR
PRODID:-//kirchenweb.ch gmbh//veranstaltungsausgabe v2.0//DE
VERSION:2.0
METHOD:PUBLISH
BEGIN:VEVENT
DTSTART:20261122T100000Z
DTEND:20261122T110000Z
LOCATION:St. Franziskus Kirche\, Messikommerstrasse 14\, 8620 Wetzikon
TRANSP:OPAQUE
SEQUENCE:0
UID:23011-veranstaltung@kath-wetzikon.ch
DTSTAMP:20260413T182657Z
DESCRIPTION:Das Hochfest Christkönig wird am letzten Sonntag des
  Kirchenjahres gefeiert\, also jeweils Ende November\, eine Woche vor dem
  1. Advent. Es wurde 1925 von Papst Pius XI. eingeführt\, ursprünglich
  als Reaktion auf zunehmende säkulare Ideologien. Seit der Liturgiereform
  des Zweiten Vatikanischen Konzils steht das Fest bewusst am Ende des
  Kirchenjahres und unterstreicht: Christus ist Herr der Zeit und der
  Geschichte.\n\nDas Fest richtet den Blick auf Jesus Christus als König
  – aber nicht im weltlichen Sinn von Macht und Herrschaft\, sondern als
  König der Liebe\, des Friedens und der Wahrheit\, der durch sein Kreuz
  regiert.\n\nAn diesem Sonntag feiern wir in besonderer Weise auch unsere
  Minis:\nIn der Heiligen Messe findet die Mini-Aufnahmefeier statt – ein
  schönes Zeichen für gelebten Glauben und Gemeinschaft in unserer
  Pfarrei.\n\nKontakt: redaktion.webseite@kath-wetzikon.ch\n\nWeitere
  Infos: https://www.kath-wetzikon.ch/veranstaltung/23011
SUMMARY:SF Heilige Messe zum Christkönig (plus livestream)
PRIORITY:5
X-MICROSOFT-CDO-IMPORTANCE:1
CLASS:PUBLIC
END:VEVENT
END:VCALENDAR
