BEGIN:VCALENDAR
PRODID:-//kirchenweb.ch gmbh//veranstaltungsausgabe v2.0//DE
VERSION:2.0
METHOD:PUBLISH
BEGIN:VEVENT
DTSTART:20261220T100000Z
DTEND:20261220T110000Z
LOCATION:St. Franziskus Kirche\, Messikommerstrasse 14\, 8620 Wetzikon
TRANSP:OPAQUE
SEQUENCE:0
UID:23015-veranstaltung@kath-wetzikon.ch
DTSTAMP:20260413T184945Z
DESCRIPTION:Am vierten Adventssonntag rückt die Gestalt Mariens in den
  Vordergrund. Das Evangelium berichtet meist von der Verkündigung des
  Engels an Maria (vgl. Lk 1\,26–38).\n\nMaria antwortet mit dem
  berühmten „Fiat“ – „Mir geschehe\, wie du gesagt hast.“ Ihre
  Bereitschaft öffnet den Weg zur Menschwerdung Gottes.\n\nDieser Sonntag
  lädt dazu ein\, sich wie Maria dem Kommen Christi zu öffnen – still\,
  empfangsbereit und vertrauensvoll.\n\nKontakt:
  redaktion.webseite@kath-wetzikon.ch\n\nWeitere Infos:
  https://www.kath-wetzikon.ch/veranstaltung/23015
SUMMARY:SF Heilige Messe zum 4. Advent (plus livestream)
PRIORITY:5
X-MICROSOFT-CDO-IMPORTANCE:1
CLASS:PUBLIC
END:VEVENT
END:VCALENDAR
