BEGIN:VCALENDAR
PRODID:-//kirchenweb.ch gmbh//veranstaltungsausgabe v2.0//DE
VERSION:2.0
METHOD:PUBLISH
BEGIN:VEVENT
DTSTART:20260529T180000Z
DTEND:20260529T200000Z
LOCATION:Pfarreizentrum Heilig-Geist\, Langfurrenstrasse 10\, 8623
  Wetzikon
TRANSP:OPAQUE
SEQUENCE:0
UID:23683-veranstaltung@kath-wetzikon.ch
DTSTAMP:20260413T091839Z
DESCRIPTION:Herzliche Einladung zum traditionellen Jassabend\n\nOb jung\,
  mittelalterlich oder alt und erfahren\, alle die Freude am Jassen haben
  sind willkommen.\n\nWir möchten Sie bereits jetzt schon etwas
  «gluschtig» machen auf diesen traditionellen und gemütlichen Anlass.
  Die «Spielarena» (Saal im Zentrum Heilig Geist) ist gerichtet. Auch
  warten wieder schöne Preise sowie der Wanderpokal auf die Gewinner.\n
 \nMelden Sie sich noch heute zum Jassabend an\, um die Ambiance von diesem
  gemütlichen Anlass selbst zu spüren.\n\nKontakt:
  diana.cundo@kath-wetzikon.ch\n\nWeitere Infos:
  https://www.kath-wetzikon.ch/veranstaltung/23683
SUMMARY:Pfarrei-Jassabend
PRIORITY:5
X-MICROSOFT-CDO-IMPORTANCE:1
CLASS:PUBLIC
END:VEVENT
END:VCALENDAR
