BEGIN:VCALENDAR
PRODID:-//kirchenweb.ch gmbh//veranstaltungsausgabe v2.0//DE
VERSION:2.0
METHOD:PUBLISH
BEGIN:VEVENT
DTSTART:20261217T110000Z
DTEND:20261217T123000Z
LOCATION:Pfarreizentrum Heilig Geist\, Langfurrenstrasse 10\, 8623
  Wetzikon
TRANSP:OPAQUE
SEQUENCE:0
UID:23882-veranstaltung@kath-wetzikon.ch
DTSTAMP:20251215T104319Z
DESCRIPTION:Kontakt: Sekretariat\n\nWeitere Infos:
  https://www.kath-wetzikon.ch/veranstaltung/23882
SUMMARY:Mittagstisch
PRIORITY:5
X-MICROSOFT-CDO-IMPORTANCE:1
CLASS:PUBLIC
END:VEVENT
END:VCALENDAR
