BEGIN:VCALENDAR
PRODID:-//kirchenweb.ch gmbh//veranstaltungsausgabe v2.0//DE
VERSION:2.0
METHOD:PUBLISH
BEGIN:VEVENT
DTSTART:20270225T072500Z
DTEND:20270225T080000Z
LOCATION:St. Franziskus-Kirche\, Messikommerstrasse 14\, 8620 Wetzikon ZH
TRANSP:OPAQUE
SEQUENCE:0
UID:24144-veranstaltung@kath-wetzikon.ch
DTSTAMP:20250827T152648Z
DESCRIPTION:Kontakt: redaktion.webseite@kath-wetzikon.ch\n\nWeitere Infos:
  https://www.kath-wetzikon.ch/veranstaltung/24144
SUMMARY:SF Rosenkranz
PRIORITY:5
X-MICROSOFT-CDO-IMPORTANCE:1
CLASS:PUBLIC
END:VEVENT
END:VCALENDAR
