BEGIN:VCALENDAR
PRODID:-//kirchenweb.ch gmbh//veranstaltungsausgabe v2.0//DE
VERSION:2.0
METHOD:PUBLISH
BEGIN:VEVENT
DTSTART:20260529T170000Z
DTEND:20260529T180000Z
LOCATION:Franziskus-Saal\, Messikommerstrasse 14\, 8620 Wetzikon ZH
TRANSP:OPAQUE
SEQUENCE:0
UID:24218-veranstaltung@kath-wetzikon.ch
DTSTAMP:20250909T192953Z
DESCRIPTION:Herzliche Einladung um miteinander den Rosenkranz für unsere
  Kinder zu beten.\n\nDie Sorgen um unsere Kinder - ob sie nun klein oder
  schon erwachsen sind und Familienanliegen wollen wir Gott abgeben und ihm
  vertrauen. Als Eltern unterstützen und ermutigen wir uns gegenseitig. Zu
  spüren\, dass wir mit dem was uns auf dem Herzen liegt nicht alleine
  sind\, tut gut und gibt Kraft und Mut.\n\nWas uns belastet und
  beschäftigt\, bringen wir gemeinsam zum Rosenkranz Gebet vor Gott.\n
 \nDer Rosenkranz stärkt Glaube\, Hoffnung und Liebe“\n\nJede Mutter\,
  jeder Vater\, ist herzlich eingeladen (dazu braucht es keine Rosenkranz
  Kenntnis)!\n\nKontakt: redaktion.webseite@kath-wetzikon.ch\n\nWeitere
  Infos: https://www.kath-wetzikon.ch/veranstaltung/24218
SUMMARY:FSA Rosenkranz für unsere Kinder
PRIORITY:5
X-MICROSOFT-CDO-IMPORTANCE:1
CLASS:PUBLIC
END:VEVENT
END:VCALENDAR
