BEGIN:VCALENDAR
PRODID:-//kirchenweb.ch gmbh//veranstaltungsausgabe v2.0//DE
VERSION:2.0
METHOD:PUBLISH
BEGIN:VEVENT
DTSTART:20261107T160000Z
DTEND:20261107T170000Z
LOCATION:St. Franziskus-Kirche\, Messikommerstrasse 14\, 8620 Wetzikon
TRANSP:OPAQUE
SEQUENCE:0
UID:24241-veranstaltung@kath-wetzikon.ch
DTSTAMP:20250910T130511Z
DESCRIPTION:Kontakt: redaktion.webseite@kath-wetzikon.ch\n\nWeitere Infos:
  https://www.kath-wetzikon.ch/veranstaltung/24241
SUMMARY:SF Santo Rosario MCLI - Madonna dello scoglio
PRIORITY:5
X-MICROSOFT-CDO-IMPORTANCE:1
CLASS:PUBLIC
END:VEVENT
END:VCALENDAR
