BEGIN:VCALENDAR
PRODID:-//kirchenweb.ch gmbh//veranstaltungsausgabe v2.0//DE
VERSION:2.0
METHOD:PUBLISH
BEGIN:VEVENT
DTSTART:20270103T083000Z
DTEND:20270103T093000Z
LOCATION:Heilig-Geist-Kirche\, Langfurrenstrasse 10\, 8623 Wetzikon ZH
TRANSP:OPAQUE
SEQUENCE:0
UID:24274-veranstaltung@kath-wetzikon.ch
DTSTAMP:20251105T155846Z
DESCRIPTION:Kontakt: redaktion.webseite@kath-wetzikon.ch\n\nWeitere Infos:
  https://www.kath-wetzikon.ch/veranstaltung/24274
SUMMARY:HG Heilige Messe zum Hochfest der Erscheinung des Herrn mit
  Cäcilienchor\, Chinderhüeti
PRIORITY:5
X-MICROSOFT-CDO-IMPORTANCE:1
CLASS:PUBLIC
END:VEVENT
END:VCALENDAR
