BEGIN:VCALENDAR
PRODID:-//kirchenweb.ch gmbh//veranstaltungsausgabe v2.0//DE
VERSION:2.0
METHOD:PUBLISH
BEGIN:VEVENT
DTSTART:20260617T173000Z
DTEND:20260617T200000Z
LOCATION:Pfarreizentrum Heilig-Geist\, Langfurrenstrasse 10\, 8623
  Wetzikon
TRANSP:OPAQUE
SEQUENCE:0
UID:24308-veranstaltung@kath-wetzikon.ch
DTSTAMP:20251230T211212Z
DESCRIPTION:Kontakt: diana.cundo@kath-wetzikon.ch\n\nWeitere Infos:
  https://www.kath-wetzikon.ch/veranstaltung/24308
SUMMARY:Kirchgemeindeversammlung\, Pfarreizentrum HG
PRIORITY:5
X-MICROSOFT-CDO-IMPORTANCE:1
CLASS:PUBLIC
END:VEVENT
END:VCALENDAR
