BEGIN:VCALENDAR
PRODID:-//kirchenweb.ch gmbh//veranstaltungsausgabe v2.0//DE
VERSION:2.0
METHOD:PUBLISH
BEGIN:VEVENT
DTSTART:20260525T090000Z
DTEND:20260525T100000Z
LOCATION:St. Franziskus-Kirche\, Messikommerstrasse 14\, 8620 Wetzikon
TRANSP:OPAQUE
SEQUENCE:0
UID:24373-veranstaltung@kath-wetzikon.ch
DTSTAMP:20250930T144350Z
DESCRIPTION:Der Pfingstmontag ist in vielen Ländern\, so auch in der
  Schweiz\, ein gesetzlicher Feiertag und bildet den Nachklang des
  Pfingstfestes. Liturgisch steht er im Schatten des Pfingstsonntags\,
  behält aber den festlichen Charakter bei und lädt dazu ein\, das
  Geschenk des Heiligen Geistes noch einmal bewusst aufzunehmen und zu
  vertiefen.\n\nKontakt: redaktion.webseite@kath-wetzikon.ch\n\nWeitere
  Infos: https://www.kath-wetzikon.ch/veranstaltung/24373
SUMMARY:SF Heilige Messe zum Pfingstmontag
PRIORITY:5
X-MICROSOFT-CDO-IMPORTANCE:1
CLASS:PUBLIC
END:VEVENT
END:VCALENDAR
