BEGIN:VCALENDAR
PRODID:-//kirchenweb.ch gmbh//veranstaltungsausgabe v2.0//DE
VERSION:2.0
METHOD:PUBLISH
BEGIN:VEVENT
DTSTART:20260520T114500Z
DTEND:20260520T150000Z
LOCATION:Schönstatt-Heiligtum Quarten\, \,
TRANSP:OPAQUE
SEQUENCE:0
UID:24443-veranstaltung@kath-wetzikon.ch
DTSTAMP:20260318T213855Z
DESCRIPTION:Unruhig und voller Freude - WIR SIND DA\n\nWir gehen wiederum
  zum Schönstatt-Heiligtum Quarten.\n\nProgramm			\n			\n13.45 Uhr
 \nBegrüssung & Einstimmung\nEucharistiefeier mit Pfr. Martin Scheibli
 \nMusikalische Umrahmung\nKaffee & Gebäck		\nanschliessend diverse
  Angebote\n\n17.00 Uhr\nSchlussgebet und Segen		\n\nMitfahrgelegenheit zur
  Wallfahrt\nWir bieten eine Mitfahrgelegenheit zur Wallfahrt an.
  Treffpunkt ist um 12.15 Uhr beim Pfarreizentrum Heilig-Geist\, die
  Abfahrt nach Quarten erfolgt um 12.30 Uhr. \n\nBei Interesse bitten wir
  um eine Anmeldung direkt bei Morena Spano:\nTel. 076 381 52 97 oder
  E-Mail: morena.spano@kath-wetzikon.ch\n\n\n\nKontakt:
  redaktion.webseite@kath-wetzikon.ch\n\nWeitere Infos:
  https://www.kath-wetzikon.ch/veranstaltung/24443
SUMMARY:Wallfahrt nach Quarten
PRIORITY:5
X-MICROSOFT-CDO-IMPORTANCE:1
CLASS:PUBLIC
END:VEVENT
END:VCALENDAR
