BEGIN:VCALENDAR
PRODID:-//kirchenweb.ch gmbh//veranstaltungsausgabe v2.0//DE
VERSION:2.0
METHOD:PUBLISH
BEGIN:VEVENT
DTSTART:20260424T200000Z
DTEND:20260424T215900Z
LOCATION:St. Franziskus-Kirche\, Messikommerstrasse 14\, 8620 Wetzikon
TRANSP:OPAQUE
SEQUENCE:0
UID:24451-veranstaltung@kath-wetzikon.ch
DTSTAMP:20251103T161722Z
DESCRIPTION:Deutsch: 22.00 Uhr bis 24.00 Uhr\, Indisch: 24.00 bis 06.00
  Uhr\n\nKontakt: Frieda Ambalathattil\n\nWeitere Infos:
  https://www.kath-wetzikon.ch/veranstaltung/24451
SUMMARY:SF Gebetsnacht (mit Anbetung)
PRIORITY:5
X-MICROSOFT-CDO-IMPORTANCE:1
CLASS:PUBLIC
END:VEVENT
END:VCALENDAR
