BEGIN:VCALENDAR
PRODID:-//kirchenweb.ch gmbh//veranstaltungsausgabe v2.0//DE
VERSION:2.0
METHOD:PUBLISH
BEGIN:VEVENT
DTSTART:20261102T170000Z
DTEND:20261102T180000Z
LOCATION:Heilig-Geist-Kirche\, Langfurrenstrasse 10\, 8623 Wetzikon ZH
TRANSP:OPAQUE
SEQUENCE:0
UID:24495-veranstaltung@kath-wetzikon.ch
DTSTAMP:20260413T181534Z
DESCRIPTION:An Allerseelen (immer der 2. November) gedenkt die Kirche
  aller Verstorbenen\, die noch der Reinigung bedürfen. Also jener\, die
  noch nicht zur vollen Anschauung Gottes gelangt sind.\nWährend an
  Allerheiligen (1. November) die Vollendeten in der Herrlichkeit Gottes
  gefeiert werden\, richtet Allerseelen den Blick auf die Armen Seelen im
  Fegefeuer. Es handelt sich um eine Theologie der communio sanctorum: Die
  Kirche der Pilgernden (wir auf Erden)\, die Kirche der Vollendeten
  (Heilige im Himmel) und die Kirche der Läuterung (Seelen im Purgatorium)
  sind miteinander verbunden.\n\nWesentlich sind:\n\n\n\nTheologisch
  gründet sich das Fest auf die Überzeugung\, dass die Gnade Christi
  stärker ist als unsere Schuld\, aber dass die Heiligung des Menschen oft
  noch einen Reinigungsprozess erfordert. Thomas von Aquin betont\, dass
  die Lebenden durch ihre Werke der Barmherzigkeit an diesem
  Reinigungsprozess mitwirken können.\n\nDie Feier des Allerseelentages am
  2. November geht auf den heiligen Abt Odilo von Cluny zurück; er hat
  diesen Gedenktag in allen von Cluny abhängigen Klöstern eingeführt.
  Das Dekret Odilos vom Jahr 998 ist noch erhalten. Bald wurde der
  Allerseelentag auch ausserhalb der Klöster gefeiert.\n\n\nKontakt:
  redaktion.webseite@kath-wetzikon.ch\n\nWeitere Infos:
  https://www.kath-wetzikon.ch/veranstaltung/24495
SUMMARY:HG Heilige Messe zu Allerseelen mit anschl. Gräberbesuch
PRIORITY:5
X-MICROSOFT-CDO-IMPORTANCE:1
CLASS:PUBLIC
END:VEVENT
END:VCALENDAR
