BEGIN:VCALENDAR
PRODID:-//kirchenweb.ch gmbh//veranstaltungsausgabe v2.0//DE
VERSION:2.0
METHOD:PUBLISH
BEGIN:VEVENT
DTSTART:20261108T140000Z
DTEND:20261108T150000Z
LOCATION:Heilig Geist Kirche\, Langfurrenstrasse 10\, 8623 Wetzikon
TRANSP:OPAQUE
SEQUENCE:0
UID:24497-veranstaltung@kath-wetzikon.ch
DTSTAMP:20260413T181933Z
DESCRIPTION:Andacht für unsere Verstorbenen\n\nWir werden an diesem
  Sonntag den Verstorbenen des vergangenen Jahres gedenken.\n\nIn der
  feierlichen Andacht\, die musikalisch umrahmt wird\, erinnern wir uns an
  die Verstorbenen und nennen ihre Namen. Bei jedem Namen wird eine Kerze
  entzündet. Anschliessend gehen wir gemeinsam zum Friedhof\, um in Stille
  bei den Gräbern zu verweilen.\n\nMöge es den Angehörigen Trost
  schenken und die Gewissheit stärken\, dass die Verstorbenen in Gottes
  Liebe geborgen sind.\n\nKontakt: redaktion.webseite@kath-wetzikon.ch\n
 \nWeitere Infos: https://www.kath-wetzikon.ch/veranstaltung/24497
SUMMARY:HG Totengedenken mit Cäcilienchor und anschl. Gräberbesuch
PRIORITY:5
X-MICROSOFT-CDO-IMPORTANCE:1
CLASS:PUBLIC
END:VEVENT
END:VCALENDAR
