BEGIN:VCALENDAR
PRODID:-//kirchenweb.ch gmbh//veranstaltungsausgabe v2.0//DE
VERSION:2.0
METHOD:PUBLISH
BEGIN:VEVENT
DTSTART:20261231T220000Z
DTEND:20261231T225500Z
LOCATION:St. Franziskus-Kirche\, Messikommerstrasse 14\, 8620 Wetzikon
TRANSP:OPAQUE
SEQUENCE:0
UID:24509-veranstaltung@kath-wetzikon.ch
DTSTAMP:20260413T191834Z
DESCRIPTION:Anbetung zum Jahreswechsel\n\nBevor die Glocken das neue Jahr
  einläuten\, wollen wir einen Moment der Stille und Dankbarkeit vor Gott
  verbringen.\n\nEin ruhiger\, besinnlicher Beginn des neuen Jahres unter
  seinem Schutz und Segen. Im Anschluss Umtrunk im Franziskussaal.\n
 \nKontakt: redaktion.webseite@kath-wetzikon.ch\n\nWeitere Infos:
  https://www.kath-wetzikon.ch/veranstaltung/24509
SUMMARY:SF Anbetung zum Jahreswechsel mit Umtrunk
PRIORITY:5
X-MICROSOFT-CDO-IMPORTANCE:1
CLASS:PUBLIC
END:VEVENT
END:VCALENDAR
