BEGIN:VCALENDAR
PRODID:-//kirchenweb.ch gmbh//veranstaltungsausgabe v2.0//DE
VERSION:2.0
METHOD:PUBLISH
BEGIN:VEVENT
DTSTART:20260528T173000Z
DTEND:20260528T184500Z
LOCATION:St. Franziskus-Kirche\, Messikommerstrasse 14\, 8620 Wetzikon
TRANSP:OPAQUE
SEQUENCE:0
UID:24535-veranstaltung@kath-wetzikon.ch
DTSTAMP:20260224T161010Z
DESCRIPTION:Einmal im Quartal findet ein Abend der Barmherzigkeit statt.
  Dabei möchten wir im Lobpreis unseren Dank vor Gott zum Ausdruck
  bringen. Während dem ganzen Abend besteht die Möglichkeit\, das
  Sakrament der Versöhnung zu empfangen\, um die Barmherzigkeit Gottes auf
  wunderbare Weise erfahren zu dürfen. Es findet am Abend keine hl. Messe
  mehr statt (wie bisher).\n\nHerzlich willkommen!\n\nKontakt:
  redaktion.webseite@kath-wetzikon.ch\n\nWeitere Infos:
  https://www.kath-wetzikon.ch/veranstaltung/24535
SUMMARY:SF Abend der Barmherzigkeit
PRIORITY:5
X-MICROSOFT-CDO-IMPORTANCE:1
CLASS:PUBLIC
END:VEVENT
END:VCALENDAR
