BEGIN:VCALENDAR
PRODID:-//kirchenweb.ch gmbh//veranstaltungsausgabe v2.0//DE
VERSION:2.0
METHOD:PUBLISH
BEGIN:VEVENT
DTSTART:20260410T163000Z
DTEND:20260410T210000Z
LOCATION:Pfarreizentrum Heilig-Geist\, Langfurrenstrasse 10\, 8623
  Wetzikon
TRANSP:OPAQUE
SEQUENCE:0
UID:25233-veranstaltung@kath-wetzikon.ch
DTSTAMP:20260319T175641Z
DESCRIPTION:Erleben Sie mit dem "Mann für alle musikalischen Fälle"
  einen stimmungsvollen Abend mit Live-Musik und Unterhaltung.\n\nFür das
  leibliche Wohl ist gesorgt.\nGrill\, Salate sowie ein grosses
  Kuchenbuffet (Essen und Getränke auf eigene Rechnung)\n\nEintritt frei -
  Kollekte für die Musik\n\nPhilipp Mettler blickt auf 30 Jahre
  Bühnenerfahrung zurück und ist Mitglied der Superländlerkapelle von
  Carlo Brunner.\n\nSein Repertoire reicht von traditioneller Steiner
  Chilbi über Schlager bis zur Pop-Musik.\n\nWir freuen uns auf einen
  gemütlichen Abend mit Ihnen\, Ihren Familien und Freunden.\n\n\n\n
 \nKontakt: redaktion.webseite@kath-wetzikon.ch\n\nWeitere Infos:
  https://www.kath-wetzikon.ch/veranstaltung/25233
SUMMARY:Frühlingsfest mit Philipp Mettler
PRIORITY:5
X-MICROSOFT-CDO-IMPORTANCE:1
CLASS:PUBLIC
END:VEVENT
END:VCALENDAR
