BEGIN:VCALENDAR
PRODID:-//kirchenweb.ch gmbh//veranstaltungsausgabe v2.0//DE
VERSION:2.0
METHOD:PUBLISH
BEGIN:VEVENT
DTSTART:20260612T170000Z
DTEND:20260612T180000Z
LOCATION:Heilig Geist Kirche\, Langfurrenstrasse 10\, 8623 Wetzikon
TRANSP:OPAQUE
SEQUENCE:0
UID:25349-veranstaltung@kath-wetzikon.ch
DTSTAMP:20260413T144502Z
DESCRIPTION:Die Liebe Gottes ist ausgegossen in unsere Herzen durch den
  Heiligen Geist\, der uns gegeben ist. (Römer 5\,5 - Lesejahr C)\nJesus
  Christus gilt für Christinnen und Christen als die menschgewordene
  Offenbarkeit eines bedingungslos liebenden Gottes. Jesu Herz\, nicht als
  Organ\, sondern als Sitz der Emotionen und Symbol der tiefsten personalen
  Mitte des Menschen\, wird daher in der katholischen Kirche verehrt –
  und zwar so sehr\, dass die Kirche diesem Herzen in jedem Jahr am dritten
  Freitag nach Pfingsten das „Hochfest des Heiligsten Herzens Jesu“
  widmet. \n\nUrsprung des Herz Jesu-Festes liegt in der Bibel\nIm
  Johannes-Evangelium ist die Verehrung des Herzens Jesu begründet. Dort
  heisst im 19. Kapitel: "Als sie aber zu Jesus kamen und sahen\, dass er
  schon tot war\, zerschlugen sie ihm die Beine nicht\, sondern einer der
  Soldaten stiess mit der Lanze in seine Seite und sogleich floss Blut und
  Wasser heraus." (Joh 19\,33-34) Während den beiden Mitgekreuzigten die
  Beine zerschlagen wurden\, stellten die Soldaten mit dem Lanzenstich den
  Tod Jesu fest.\n\nDer Herz Jesu-Freitag lädt ein\, über Gottes Liebe
  nachzudenken\nJeden Monat lädt der Herz Jesu-Freitag dazu ein\, über
  die Liebe Gottes zu uns Menschen nachzudenken. Liebe ist nichts
  abstraktes\, sondern zeigt sich konkret im Umgang der Menschen
  miteinander. Auch der Mangel an Liebe wird im täglichen Umgang sichtbar.
  Auch diesen können wir dem Herzen Jesu anvertrauen. In Jesus zeigt uns
  Gott: Wir Menschen sind ihm nicht fremd\, wir sind ihm wichtig\, wir
  liegen Gott am Herzen!\n\n\nKontakt: redaktion.webseite@kath-wetzikon.ch
 \n\nWeitere Infos: https://www.kath-wetzikon.ch/veranstaltung/25349
SUMMARY:HG Heilige Messe zum Herz-Jesu-Fest
PRIORITY:5
X-MICROSOFT-CDO-IMPORTANCE:1
CLASS:PUBLIC
END:VEVENT
END:VCALENDAR
